Package: tkWidgets Version: 1.79.0 Command: /home/hpages/bbs-3.18-bioc/R/bin/R CMD build --keep-empty-dirs --no-resave-data tkWidgets StartedAt: 2023-06-01 12:50:22 -0700 (Thu, 01 Jun 2023) EndedAt: 2023-06-01 12:50:36 -0700 (Thu, 01 Jun 2023) EllapsedTime: 14.0 seconds RetCode: 0 Status: OK PackageFile: tkWidgets_1.79.0.tar.gz PackageFileSize: 475.8 KiB