############################################################################## ############################################################################## ### ### Running command: ### ### /home/hpages/bbs-3.18-bioc/R/bin/R CMD INSTALL rhdf5 ### ############################################################################## ############################################################################## * installing to library ‘/home/hpages/bbs-3.18-bioc-testing/Rlibs’ ERROR: dependency ‘rhdf5filters’ is not available for package ‘rhdf5’ * removing ‘/home/hpages/bbs-3.18-bioc-testing/Rlibs/rhdf5’