############################################################################## ############################################################################## ### ### Running command: ### ### /home/hpages/bbs-3.18-bioc/R/bin/R CMD build --keep-empty-dirs --no-resave-data rhdf5 ### ############################################################################## ############################################################################## * checking for file ‘rhdf5/DESCRIPTION’ ... OK * preparing ‘rhdf5’: * checking DESCRIPTION meta-information ... OK * cleaning src * running ‘cleanup’ * installing the package to build vignettes ----------------------------------- ERROR: dependency ‘rhdf5filters’ is not available for package ‘rhdf5’ * removing ‘/tmp/Rtmp3o1uZ8/Rinst6c26e3a29d275/rhdf5’ ----------------------------------- ERROR: package installation failed