Package: rhdf5 Version: 2.46.1 Command: /home/hpages/bbs-3.18-bioc-R41/R/bin/R CMD check --install=check:rhdf5.install-out.txt --library=/home/hpages/bbs-3.18-bioc-R41/R/site-library --timings rhdf5_2.46.1.tar.gz StartedAt: 2024-03-08 16:14:15 -0500 (Fri, 08 Mar 2024) EndedAt: 2024-03-08 16:27:59 -0500 (Fri, 08 Mar 2024) EllapsedTime: 824.8 seconds RetCode: 0 Status: OK CheckDir: rhdf5.Rcheck Warnings: 0