Package: rhdf5 Version: 2.46.1 Command: /home/hpages/bbs-3.18-bioc-R41/R/bin/R CMD build --keep-empty-dirs --no-resave-data rhdf5 StartedAt: 2024-03-08 15:48:23 -0500 (Fri, 08 Mar 2024) EndedAt: 2024-03-08 16:01:13 -0500 (Fri, 08 Mar 2024) EllapsedTime: 769.3 seconds RetCode: 0 Status: OK PackageFile: rhdf5_2.46.1.tar.gz PackageFileSize: 1.213 MiB