Package: rhdf5 Version: 2.47.0 Command: /home/biocbuild/bbs-3.18-bioc/R/bin/Rscript -e "BiocCheck::BiocCheck('rhdf5_2.47.0.tar.gz')" StartedAt: 2023-10-24 10:47:53 -0400 (Tue, 24 Oct 2023) EndedAt: 2023-10-24 10:48:34 -0400 (Tue, 24 Oct 2023) EllapsedTime: 40.5 seconds RetCode: None Status: ERROR Warnings: 4