############################################################################## ############################################################################## ### ### Running command: ### ### /home/hpages/bbs-3.18-bioc-R41/R/bin/R CMD build --keep-empty-dirs --no-resave-data qvalue ### ############################################################################## ############################################################################## * checking for file ‘qvalue/DESCRIPTION’ ... OK * preparing ‘qvalue’: * checking DESCRIPTION meta-information ... OK * installing the package to build vignettes * creating vignettes ... OK Warning: ‘inst/doc’ files ‘qvalue.Rnw’, ‘qvalue.pdf’, ‘qvalue.R’ ignored as vignettes have been rebuilt. Run R CMD build with --no-build-vignettes to prevent rebuilding. * checking for LF line-endings in source and make files and shell scripts * checking for empty or unneeded directories * looking to see if a ‘data/datalist’ file should be added * building ‘qvalue_2.34.0.tar.gz’ Warning in sprintf(gettext(fmt, domain = domain), ...) : one argument not used by format 'invalid uid value replaced by that for user 'nobody'' Warning: invalid uid value replaced by that for user 'nobody' Warning in sprintf(gettext(fmt, domain = domain), ...) : one argument not used by format 'invalid gid value replaced by that for user 'nobody'' Warning: invalid gid value replaced by that for user 'nobody'