Package: qvalue Version: 2.35.0 Command: /home/biocbuild/bbs-3.18-bioc/R/bin/Rscript -e "BiocCheck::BiocCheck('qvalue_2.35.0.tar.gz')" StartedAt: 2023-10-24 10:47:51 -0400 (Tue, 24 Oct 2023) EndedAt: 2023-10-24 10:48:13 -0400 (Tue, 24 Oct 2023) EllapsedTime: 21.3 seconds RetCode: None Status: ERROR Warnings: 2