Package: multtest Version: 2.57.0 Command: /home/hpages/bbs-3.18-bioc/R/bin/R CMD build --keep-empty-dirs --no-resave-data multtest StartedAt: 2023-06-01 12:44:16 -0700 (Thu, 01 Jun 2023) EndedAt: 2023-06-01 12:44:18 -0700 (Thu, 01 Jun 2023) EllapsedTime: 2.0 seconds RetCode: 0 Status: OK PackageFile: multtest_2.57.0.tar.gz PackageFileSize: 1.234 MiB