Package: graph Version: 1.80.0 Command: /home/hpages/bbs-3.18-bioc-R41/R/bin/R CMD build --keep-empty-dirs --no-resave-data graph StartedAt: 2024-03-08 15:46:04 -0500 (Fri, 08 Mar 2024) EndedAt: 2024-03-08 15:46:44 -0500 (Fri, 08 Mar 2024) EllapsedTime: 40.5 seconds RetCode: 0 Status: OK PackageFile: graph_1.80.0.tar.gz PackageFileSize: 1.428 MiB