Package: glmGamPoi Version: 1.14.3 Command: /home/hpages/bbs-3.18-bioc-R41/R/bin/R CMD check --install=check:glmGamPoi.install-out.txt --library=/home/hpages/bbs-3.18-bioc-R41/R/site-library --timings glmGamPoi_1.14.3.tar.gz StartedAt: 2024-03-08 16:08:52 -0500 (Fri, 08 Mar 2024) EndedAt: 2024-03-08 16:18:58 -0500 (Fri, 08 Mar 2024) EllapsedTime: 605.7 seconds RetCode: 0 Status: OK CheckDir: glmGamPoi.Rcheck Warnings: 0