Package: ggbio Version: 1.49.0 Command: /home/hpages/bbs-3.18-bioc/R/bin/R CMD build --keep-empty-dirs --no-resave-data ggbio StartedAt: 2023-06-01 12:42:20 -0700 (Thu, 01 Jun 2023) EndedAt: 2023-06-01 12:47:38 -0700 (Thu, 01 Jun 2023) EllapsedTime: 318.1 seconds RetCode: 0 Status: OK PackageFile: ggbio_1.49.0.tar.gz PackageFileSize: 3.102 MiB