Package: gcrma Version: 2.74.0 Command: /home/hpages/bbs-3.18-bioc-R41/R/bin/R CMD INSTALL gcrma StartedAt: 2024-03-08 15:30:55 -0500 (Fri, 08 Mar 2024) EndedAt: 2024-03-08 15:31:05 -0500 (Fri, 08 Mar 2024) EllapsedTime: 10.6 seconds RetCode: 0 Status: OK