Package: gcrma Version: 2.74.0 Command: /home/hpages/bbs-3.18-bioc-R41/R/bin/R CMD build --keep-empty-dirs --no-resave-data gcrma StartedAt: 2024-03-08 15:44:31 -0500 (Fri, 08 Mar 2024) EndedAt: 2024-03-08 15:44:49 -0500 (Fri, 08 Mar 2024) EllapsedTime: 17.9 seconds RetCode: 0 Status: OK PackageFile: gcrma_2.74.0.tar.gz PackageFileSize: 176.6 KiB