Package: flowCore Version: 2.14.1 Command: /home/hpages/bbs-3.18-bioc-R41/R/bin/R CMD INSTALL flowCore StartedAt: 2024-03-08 15:35:17 -0500 (Fri, 08 Mar 2024) EndedAt: 2024-03-08 15:35:57 -0500 (Fri, 08 Mar 2024) EllapsedTime: 39.5 seconds RetCode: 0 Status: OK