Package: flowCore Version: 2.14.1 Command: /home/hpages/bbs-3.18-bioc-R41/R/bin/R CMD build --keep-empty-dirs --no-resave-data flowCore StartedAt: 2024-03-08 15:44:28 -0500 (Fri, 08 Mar 2024) EndedAt: 2024-03-08 15:45:48 -0500 (Fri, 08 Mar 2024) EllapsedTime: 80.2 seconds RetCode: 1 Status: ERROR PackageFile: None PackageFileSize: NA