############################################################################## ############################################################################## ### ### Running command: ### ### /home/hpages/bbs-3.18-bioc-R41/R/bin/R CMD INSTALL enrichplot ### ############################################################################## ############################################################################## * installing to library ‘/home/hpages/bbs-3.18-bioc-R41/R/site-library’ ERROR: dependencies ‘DOSE’, ‘GOSemSim’ are not available for package ‘enrichplot’ * removing ‘/home/hpages/bbs-3.18-bioc-R41/R/site-library/enrichplot’