Package: enrichplot Version: 1.22.0 Command: /home/hpages/bbs-3.18-bioc-R41/R/bin/R CMD build --keep-empty-dirs --no-resave-data enrichplot StartedAt: 2024-03-08 15:44:11 -0500 (Fri, 08 Mar 2024) EndedAt: 2024-03-08 15:44:12 -0500 (Fri, 08 Mar 2024) EllapsedTime: 1.3 seconds RetCode: 1 Status: ERROR PackageFile: None PackageFileSize: NA