############################################################################## ############################################################################## ### ### Running command: ### ### /home/hpages/bbs-3.18-bioc-R41/R/bin/R CMD build --keep-empty-dirs --no-resave-data enrichplot ### ############################################################################## ############################################################################## * checking for file ‘enrichplot/DESCRIPTION’ ... OK * preparing ‘enrichplot’: * checking DESCRIPTION meta-information ... OK * installing the package to build vignettes ----------------------------------- ERROR: dependencies ‘DOSE’, ‘GOSemSim’ are not available for package ‘enrichplot’ * removing ‘/tmp/RtmphhGo7G/Rinst14a0e86b92956/enrichplot’ ----------------------------------- ERROR: package installation failed