Package: edgeR
Version: 3.43.3
Command: /home/hpages/bbs-3.18-bioc/R/bin/R CMD build --keep-empty-dirs --no-resave-data edgeR
StartedAt: 2023-06-01 12:39:46 -0700 (Thu, 01 Jun 2023)
EndedAt: 2023-06-01 12:42:23 -0700 (Thu, 01 Jun 2023)
EllapsedTime: 157.1 seconds
RetCode: 0
Status: OK
PackageFile: edgeR_3.43.3.tar.gz
PackageFileSize: 1.791 <A href="http://en.wikipedia.org/wiki/MiB" target="_blank">MiB</A>