############################################################################## ############################################################################## ### ### Running command: ### ### /home/hpages/bbs-3.18-bioc-R41/R/bin/R CMD INSTALL clusterProfiler ### ############################################################################## ############################################################################## * installing to library ‘/home/hpages/bbs-3.18-bioc-R41/R/site-library’ ERROR: dependencies ‘DOSE’, ‘enrichplot’, ‘GOSemSim’ are not available for package ‘clusterProfiler’ * removing ‘/home/hpages/bbs-3.18-bioc-R41/R/site-library/clusterProfiler’