############################################################################## ############################################################################## ### ### Running command: ### ### /home/hpages/bbs-3.18-bioc-R41/R/bin/R CMD build --keep-empty-dirs --no-resave-data clusterProfiler ### ############################################################################## ############################################################################## * checking for file ‘clusterProfiler/DESCRIPTION’ ... OK * preparing ‘clusterProfiler’: * checking DESCRIPTION meta-information ... OK * installing the package to build vignettes ----------------------------------- ERROR: dependencies ‘DOSE’, ‘enrichplot’, ‘GOSemSim’ are not available for package ‘clusterProfiler’ * removing ‘/tmp/RtmpPKAV0m/Rinst1471dc1e1912c4/clusterProfiler’ ----------------------------------- ERROR: package installation failed