############################################################################## ############################################################################## ### ### Running command: ### ### /home/hpages/bbs-3.18-bioc/R/bin/R CMD INSTALL basilisk ### ############################################################################## ############################################################################## * installing to library ‘/home/hpages/bbs-3.18-bioc-testing/Rlibs’ ERROR: dependencies ‘dir.expiry’, ‘basilisk.utils’ are not available for package ‘basilisk’ * removing ‘/home/hpages/bbs-3.18-bioc-testing/Rlibs/basilisk’