Package: basilisk Version: 1.14.3 Command: /home/hpages/bbs-3.18-bioc-R41/R/bin/R CMD build --keep-empty-dirs --no-resave-data basilisk StartedAt: 2024-03-08 15:41:31 -0500 (Fri, 08 Mar 2024) EndedAt: 2024-03-08 15:48:23 -0500 (Fri, 08 Mar 2024) EllapsedTime: 411.8 seconds RetCode: 0 Status: OK PackageFile: basilisk_1.14.3.tar.gz PackageFileSize: 261.6 KiB