Package: affyio Version: 1.72.0 Command: /home/hpages/bbs-3.18-bioc-R41/R/bin/R CMD INSTALL affyio StartedAt: 2024-03-08 15:28:24 -0500 (Fri, 08 Mar 2024) EndedAt: 2024-03-08 15:28:34 -0500 (Fri, 08 Mar 2024) EllapsedTime: 9.3 seconds RetCode: 0 Status: OK