Package: affyio Version: 1.72.0 Command: /home/hpages/bbs-3.18-bioc-R41/R/bin/R CMD check --install=check:affyio.install-out.txt --library=/home/hpages/bbs-3.18-bioc-R41/R/site-library --timings affyio_1.72.0.tar.gz StartedAt: 2024-03-08 16:01:13 -0500 (Fri, 08 Mar 2024) EndedAt: 2024-03-08 16:01:34 -0500 (Fri, 08 Mar 2024) EllapsedTime: 21.3 seconds RetCode: 0 Status: WARNINGS CheckDir: affyio.Rcheck Warnings: 1