Package: VariantAnnotation Version: 1.48.1 Command: /home/hpages/bbs-3.18-bioc-R41/R/bin/R CMD check --install=check:VariantAnnotation.install-out.txt --library=/home/hpages/bbs-3.18-bioc-R41/R/site-library --timings VariantAnnotation_1.48.1.tar.gz StartedAt: 2024-03-08 16:18:58 -0500 (Fri, 08 Mar 2024) EndedAt: 2024-03-08 16:28:05 -0500 (Fri, 08 Mar 2024) EllapsedTime: 547.2 seconds RetCode: 0 Status: OK CheckDir: VariantAnnotation.Rcheck Warnings: 0