Package: VariantAnnotation Version: 1.48.1 Command: /home/hpages/bbs-3.18-bioc-R41/R/bin/R CMD build --keep-empty-dirs --no-resave-data VariantAnnotation StartedAt: 2024-03-08 15:52:05 -0500 (Fri, 08 Mar 2024) EndedAt: 2024-03-08 15:54:30 -0500 (Fri, 08 Mar 2024) EllapsedTime: 145.7 seconds RetCode: 0 Status: OK PackageFile: VariantAnnotation_1.48.1.tar.gz PackageFileSize: 1.799 MiB