Package: SummarizedExperiment Version: 1.31.1 Command: /home/hpages/bbs-3.18-bioc/R/bin/R CMD build --keep-empty-dirs --no-resave-data SummarizedExperiment StartedAt: 2023-06-01 12:50:18 -0700 (Thu, 01 Jun 2023) EndedAt: 2023-06-01 12:51:14 -0700 (Thu, 01 Jun 2023) EllapsedTime: 56.0 seconds RetCode: 0 Status: OK PackageFile: SummarizedExperiment_1.31.1.tar.gz PackageFileSize: 668.7 KiB