Package: SummarizedExperiment Version: 1.32.0 Command: /home/hpages/bbs-3.18-bioc-R41/R/bin/R CMD check --install=check:SummarizedExperiment.install-out.txt --library=/home/hpages/bbs-3.18-bioc-R41/R/site-library --timings SummarizedExperiment_1.32.0.tar.gz StartedAt: 2024-03-08 16:17:46 -0500 (Fri, 08 Mar 2024) EndedAt: 2024-03-08 16:21:30 -0500 (Fri, 08 Mar 2024) EllapsedTime: 223.9 seconds RetCode: 0 Status: OK CheckDir: SummarizedExperiment.Rcheck Warnings: 0