Package: ScaledMatrix Version: 1.10.0 Command: /home/hpages/bbs-3.18-bioc-R41/R/bin/R CMD check --install=check:ScaledMatrix.install-out.txt --library=/home/hpages/bbs-3.18-bioc-R41/R/site-library --timings ScaledMatrix_1.10.0.tar.gz StartedAt: 2024-03-08 16:14:52 -0500 (Fri, 08 Mar 2024) EndedAt: 2024-03-08 16:20:09 -0500 (Fri, 08 Mar 2024) EllapsedTime: 317.1 seconds RetCode: 0 Status: OK CheckDir: ScaledMatrix.Rcheck Warnings: 0