Package: ScaledMatrix Version: 1.10.0 Command: /home/hpages/bbs-3.18-bioc-R41/R/bin/R CMD build --keep-empty-dirs --no-resave-data ScaledMatrix StartedAt: 2024-03-08 15:50:17 -0500 (Fri, 08 Mar 2024) EndedAt: 2024-03-08 15:52:57 -0500 (Fri, 08 Mar 2024) EllapsedTime: 160.7 seconds RetCode: 0 Status: OK PackageFile: ScaledMatrix_1.10.0.tar.gz PackageFileSize: 305.7 KiB