Package: Rsubread Version: 2.15.3 Command: /home/hpages/bbs-3.18-bioc/R/bin/R CMD INSTALL Rsubread StartedAt: 2023-06-01 12:21:47 -0700 (Thu, 01 Jun 2023) EndedAt: 2023-06-01 12:22:52 -0700 (Thu, 01 Jun 2023) EllapsedTime: 64.5 seconds RetCode: 0 Status: OK