Package: Rsubread Version: 2.16.1 Command: /home/hpages/bbs-3.18-bioc-R41/R/bin/R CMD check --install=check:Rsubread.install-out.txt --library=/home/hpages/bbs-3.18-bioc-R41/R/site-library --timings Rsubread_2.16.1.tar.gz StartedAt: 2024-03-08 16:14:40 -0500 (Fri, 08 Mar 2024) EndedAt: 2024-03-08 16:31:56 -0500 (Fri, 08 Mar 2024) EllapsedTime: 1036.2 seconds RetCode: 0 Status: OK CheckDir: Rsubread.Rcheck Warnings: 0