Package: Rsubread Version: 2.17.0 Command: /home/biocbuild/bbs-3.18-bioc/R/bin/Rscript -e "BiocCheck::BiocCheck('Rsubread_2.17.0.tar.gz')" StartedAt: 2023-10-24 10:48:06 -0400 (Tue, 24 Oct 2023) EndedAt: 2023-10-24 10:49:19 -0400 (Tue, 24 Oct 2023) EllapsedTime: 72.6 seconds RetCode: None Status: ERROR Warnings: 5