Package: Rsamtools Version: 2.17.0 Command: /home/hpages/bbs-3.18-bioc/R/bin/R CMD INSTALL Rsamtools StartedAt: 2023-06-01 12:22:58 -0700 (Thu, 01 Jun 2023) EndedAt: 2023-06-01 12:23:59 -0700 (Thu, 01 Jun 2023) EllapsedTime: 61.0 seconds RetCode: 0 Status: OK