Package: Rhdf5lib Version: 1.24.2 Command: /home/hpages/bbs-3.18-bioc-R41/R/bin/R CMD check --install=check:Rhdf5lib.install-out.txt --library=/home/hpages/bbs-3.18-bioc-R41/R/site-library --timings Rhdf5lib_1.24.2.tar.gz StartedAt: 2024-03-08 16:14:19 -0500 (Fri, 08 Mar 2024) EndedAt: 2024-03-08 16:14:40 -0500 (Fri, 08 Mar 2024) EllapsedTime: 20.6 seconds RetCode: 0 Status: OK CheckDir: Rhdf5lib.Rcheck Warnings: 0