Package: Rgraphviz Version: 2.45.0 Command: /home/hpages/bbs-3.18-bioc/R/bin/R CMD INSTALL Rgraphviz StartedAt: 2023-06-01 12:19:20 -0700 (Thu, 01 Jun 2023) EndedAt: 2023-06-01 12:21:19 -0700 (Thu, 01 Jun 2023) EllapsedTime: 119.1 seconds RetCode: 0 Status: OK