Package: Rgraphviz Version: 2.45.0 Command: /home/hpages/bbs-3.18-bioc/R/bin/R CMD build --keep-empty-dirs --no-resave-data Rgraphviz StartedAt: 2023-06-01 12:45:28 -0700 (Thu, 01 Jun 2023) EndedAt: 2023-06-01 12:47:47 -0700 (Thu, 01 Jun 2023) EllapsedTime: 139.0 seconds RetCode: 0 Status: OK PackageFile: Rgraphviz_2.45.0.tar.gz PackageFileSize: 7.333 MiB