Package: Rgraphviz Version: 2.46.0 Command: /home/hpages/bbs-3.18-bioc-R41/R/bin/R CMD check --install=check:Rgraphviz.install-out.txt --library=/home/hpages/bbs-3.18-bioc-R41/R/site-library --timings Rgraphviz_2.46.0.tar.gz StartedAt: 2024-03-08 16:14:12 -0500 (Fri, 08 Mar 2024) EndedAt: 2024-03-08 16:15:02 -0500 (Fri, 08 Mar 2024) EllapsedTime: 49.8 seconds RetCode: 0 Status: WARNINGS CheckDir: Rgraphviz.Rcheck Warnings: 1