Package: ROC Version: 1.79.0 Command: /home/biocbuild/bbs-3.18-bioc/R/bin/Rscript -e "BiocCheck::BiocCheck('ROC_1.79.0.tar.gz')" StartedAt: 2023-10-24 10:48:02 -0400 (Tue, 24 Oct 2023) EndedAt: 2023-10-24 10:48:14 -0400 (Tue, 24 Oct 2023) EllapsedTime: 12.2 seconds RetCode: None Status: ERROR Warnings: 3