Package: RBGL Version: 1.77.1 Command: /home/hpages/bbs-3.18-bioc/R/bin/R CMD build --keep-empty-dirs --no-resave-data RBGL StartedAt: 2023-06-01 12:45:15 -0700 (Thu, 01 Jun 2023) EndedAt: 2023-06-01 12:47:58 -0700 (Thu, 01 Jun 2023) EllapsedTime: 163.1 seconds RetCode: 0 Status: OK PackageFile: RBGL_1.77.1.tar.gz PackageFileSize: 2.421 MiB