############################################################################## ############################################################################## ### ### Running command: ### ### /home/hpages/bbs-3.18-bioc/R/bin/R CMD INSTALL MSnbase ### ############################################################################## ############################################################################## * installing to library ‘/home/hpages/bbs-3.18-bioc-testing/Rlibs’ ERROR: dependency ‘MsCoreUtils’ is not available for package ‘MSnbase’ * removing ‘/home/hpages/bbs-3.18-bioc-testing/Rlibs/MSnbase’