Package: KEGGgraph Version: 1.61.0 Command: /home/hpages/bbs-3.18-bioc/R/bin/R CMD build --keep-empty-dirs --no-resave-data KEGGgraph StartedAt: 2023-06-01 12:43:41 -0700 (Thu, 01 Jun 2023) EndedAt: 2023-06-01 12:44:42 -0700 (Thu, 01 Jun 2023) EllapsedTime: 61.0 seconds RetCode: 0 Status: OK PackageFile: KEGGgraph_1.61.0.tar.gz PackageFileSize: 1.315 MiB