Package: KEGGgraph
Version: 1.63.0
Command: /home/biocbuild/bbs-3.18-bioc/R/bin/Rscript -e "BiocCheck::BiocCheck('KEGGgraph_1.63.0.tar.gz')"
StartedAt: 2023-10-24 10:47:21 -0400 (Tue, 24 Oct 2023)
EndedAt: 2023-10-24 10:47:43 -0400 (Tue, 24 Oct 2023)
EllapsedTime: 22.6 seconds
RetCode: None
Status: ERROR
Warnings: 3