Package: HDF5Array Version: 1.29.3 Command: /home/hpages/bbs-3.18-bioc/R/bin/R CMD check --install=check:HDF5Array.install-out.txt --library=/home/hpages/bbs-3.18-bioc-testing/Rlibs --timings HDF5Array_1.29.3.tar.gz StartedAt: 2023-06-01 13:13:02 -0700 (Thu, 01 Jun 2023) EndedAt: 2023-06-01 13:13:07 -0700 (Thu, 01 Jun 2023) EllapsedTime: 5.0 seconds RetCode: 1 Status: ERROR CheckDir: HDF5Array.Rcheck Warnings: NA