Package: HDF5Array Version: 1.29.3 Command: /home/hpages/bbs-3.18-bioc/R/bin/R CMD build --keep-empty-dirs --no-resave-data HDF5Array StartedAt: 2023-06-01 12:43:03 -0700 (Thu, 01 Jun 2023) EndedAt: 2023-06-01 12:43:05 -0700 (Thu, 01 Jun 2023) EllapsedTime: 2.0 seconds RetCode: 0 Status: OK PackageFile: HDF5Array_1.29.3.tar.gz PackageFileSize: 7.723 MiB