Package: HDF5Array Version: 1.30.1 Command: /home/hpages/bbs-3.18-bioc-R41/R/bin/R CMD build --keep-empty-dirs --no-resave-data HDF5Array StartedAt: 2024-03-08 15:46:10 -0500 (Fri, 08 Mar 2024) EndedAt: 2024-03-08 15:46:12 -0500 (Fri, 08 Mar 2024) EllapsedTime: 2.0 seconds RetCode: 0 Status: OK PackageFile: HDF5Array_1.30.1.tar.gz PackageFileSize: 7.723 MiB