Package: HDF5Array Version: 1.29.3 Command: /home/biocbuild/bbs-3.18-bioc/R/bin/Rscript -e "BiocCheck::BiocCheck('HDF5Array_1.29.3.tar.gz')" StartedAt: 2023-10-24 10:47:12 -0400 (Tue, 24 Oct 2023) EndedAt: 2023-10-24 10:48:02 -0400 (Tue, 24 Oct 2023) EllapsedTime: 50.0 seconds RetCode: None Status: ERROR Warnings: 3