Package: DelayedArray Version: 0.27.10 Command: /home/biocbuild/bbs-3.18-bioc/R/bin/Rscript -e "BiocCheck::BiocCheck('DelayedArray_0.27.10.tar.gz')" StartedAt: 2023-10-24 10:46:15 -0400 (Tue, 24 Oct 2023) EndedAt: 2023-10-24 10:47:20 -0400 (Tue, 24 Oct 2023) EllapsedTime: 65.0 seconds RetCode: None Status: ERROR Warnings: 3